BEGIN:VCALENDAR
VERSION:2.0
PRODID:-//Nok. Gjøvik - ECPv6.15.17//NONSGML v1.0//EN
CALSCALE:GREGORIAN
METHOD:PUBLISH
X-WR-CALNAME:Nok. Gjøvik
X-ORIGINAL-URL:https://nokgjovik.no
X-WR-CALDESC:Arrangement for Nok. Gjøvik
REFRESH-INTERVAL;VALUE=DURATION:PT1H
X-Robots-Tag:noindex
X-PUBLISHED-TTL:PT1H
BEGIN:VTIMEZONE
TZID:Europe/Oslo
BEGIN:DAYLIGHT
TZOFFSETFROM:+0100
TZOFFSETTO:+0200
TZNAME:CEST
DTSTART:20240331T010000
END:DAYLIGHT
BEGIN:STANDARD
TZOFFSETFROM:+0200
TZOFFSETTO:+0100
TZNAME:CET
DTSTART:20241027T010000
END:STANDARD
BEGIN:DAYLIGHT
TZOFFSETFROM:+0100
TZOFFSETTO:+0200
TZNAME:CEST
DTSTART:20250330T010000
END:DAYLIGHT
BEGIN:STANDARD
TZOFFSETFROM:+0200
TZOFFSETTO:+0100
TZNAME:CET
DTSTART:20251026T010000
END:STANDARD
BEGIN:DAYLIGHT
TZOFFSETFROM:+0100
TZOFFSETTO:+0200
TZNAME:CEST
DTSTART:20260329T010000
END:DAYLIGHT
BEGIN:STANDARD
TZOFFSETFROM:+0200
TZOFFSETTO:+0100
TZNAME:CET
DTSTART:20261025T010000
END:STANDARD
END:VTIMEZONE
BEGIN:VEVENT
DTSTART;TZID=Europe/Oslo:20250206T173000
DTEND;TZID=Europe/Oslo:20250206T193000
DTSTAMP:20260420T205946
CREATED:20250115T085708Z
LAST-MODIFIED:20250115T085708Z
UID:4832-1738863000-1738870200@nokgjovik.no
SUMMARY:Håndarbeidskveld
DESCRIPTION:Påmelding til din veileder innen 5.februar.
URL:https://nokgjovik.no/arrangement/handarbeidskveld/
LOCATION:Nok.Gjøvik\, Storgata 10\, Gjøvik\, 2815\, Norway
END:VEVENT
BEGIN:VEVENT
DTSTART;TZID=Europe/Oslo:20250214T123000
DTEND;TZID=Europe/Oslo:20250214T153000
DTSTAMP:20260420T205946
CREATED:20250121T140715Z
LAST-MODIFIED:20250121T140715Z
UID:4843-1739536200-1739547000@nokgjovik.no
SUMMARY:Malegruppe
DESCRIPTION:Ønsker du å delta i malegruppa? Ta kontakt med din veileder\, så vil du få nødvendig informasjon om veien videre 🙂
URL:https://nokgjovik.no/arrangement/malegruppe-72/
LOCATION:Nok.Gjøvik\, Storgata 10\, Gjøvik\, 2815\, Norway
END:VEVENT
BEGIN:VEVENT
DTSTART;TZID=Europe/Oslo:20250219T100000
DTEND;TZID=Europe/Oslo:20250219T140000
DTSTAMP:20260420T205946
CREATED:20250113T085236Z
LAST-MODIFIED:20250113T085236Z
UID:4827-1739959200-1739973600@nokgjovik.no
SUMMARY:Nok. Gjøvik på Gran
DESCRIPTION:Oppmøtested avtales med din veileder.
URL:https://nokgjovik.no/arrangement/nok-gjovik-pa-gran-12/
LOCATION:Gran Rådhus\, Rådhusvegen 39\, Jaren\, 2770\, Norge
END:VEVENT
BEGIN:VEVENT
DTSTART;TZID=Europe/Oslo:20250220T170000
DTEND;TZID=Europe/Oslo:20250220T190000
DTSTAMP:20260420T205946
CREATED:20240828T112021Z
LAST-MODIFIED:20240828T112021Z
UID:4702-1740070800-1740078000@nokgjovik.no
SUMMARY:Skrivegruppe
DESCRIPTION:Ønsker du å delta i skrivegruppa? Ta kontakt med din veileder\, så vil du få nødvendig informasjon om veien videre 🙂
URL:https://nokgjovik.no/arrangement/skrivegruppe-37/
LOCATION:Gjøvik bibliotek og litteraturhus\, Kauffeldts Plass 1\, Gjøvik\, 2815
END:VEVENT
BEGIN:VEVENT
DTSTART;TZID=Europe/Oslo:20250221T123000
DTEND;TZID=Europe/Oslo:20250221T153000
DTSTAMP:20260420T205946
CREATED:20250121T141038Z
LAST-MODIFIED:20250121T141038Z
UID:4845-1740141000-1740151800@nokgjovik.no
SUMMARY:Malegruppe
DESCRIPTION:Ønsker du å delta i malegruppa? Ta kontakt med din veileder\, så vil du få nødvendig informasjon om veien videre 🙂
URL:https://nokgjovik.no/arrangement/malegruppe-73/
LOCATION:Nok.Gjøvik\, Storgata 10\, Gjøvik\, 2815\, Norway
END:VEVENT
BEGIN:VEVENT
DTSTART;TZID=Europe/Oslo:20250224T090000
DTEND;TZID=Europe/Oslo:20250224T140000
DTSTAMP:20260420T205946
CREATED:20250103T123546Z
LAST-MODIFIED:20250103T123546Z
UID:4812-1740387600-1740405600@nokgjovik.no
SUMMARY:Nok. Gjøvik på Lillehammer
DESCRIPTION:Oppmøtested avtales med din veileder.
URL:https://nokgjovik.no/arrangement/nok-gjovik-pa-lillehammer-6/
LOCATION:Familiens Hus Lillehammer\, Storgata 170\, Lillehammer\, 2615\, Norge
END:VEVENT
BEGIN:VEVENT
DTSTART;TZID=Europe/Oslo:20250224T100000
DTEND;TZID=Europe/Oslo:20250224T140000
DTSTAMP:20260420T205946
CREATED:20250131T082414Z
LAST-MODIFIED:20250131T082414Z
UID:4880-1740391200-1740405600@nokgjovik.no
SUMMARY:Nok. Gjøvik på Fagernes
DESCRIPTION:Oppmøtested avtales med din veileder.
URL:https://nokgjovik.no/arrangement/nok-gjovik-pa-fagernes-49/
LOCATION:DPS Aurdal\, Raskebakkin 34\, 2910 Aurdal\, Norway
END:VEVENT
END:VCALENDAR